BEGIN:VCALENDAR
VERSION:2.0
PRODID:-//npqic.org//NONSGML kigkonsult.se iCalcreator 2.30.10//
CALSCALE:GREGORIAN
METHOD:PUBLISH
UID:589f93b2-4340-4684-948f-3d17e1a12dd4
X-WR-CALDESC:
X-WR-RELCALID:de1f048e0502e793890655069f407238
X-WR-TIMEZONE:America/Chicago
BEGIN:VTIMEZONE
TZID:America/Chicago
BEGIN:STANDARD
TZNAME:CST
DTSTART:20241103T020000
TZOFFSETFROM:-0500
TZOFFSETTO:-0600
RDATE:20251102T020000
END:STANDARD
BEGIN:DAYLIGHT
TZNAME:CDT
DTSTART:20250309T020000
TZOFFSETFROM:-0600
TZOFFSETTO:-0500
RDATE:20260308T020000
END:DAYLIGHT
END:VTIMEZONE
BEGIN:VEVENT
UID:0c269ee0-76cc-4a5d-bd80-6a4f6a186fe7
DTSTAMP:20260419T222948Z
DESCRIPTION:
DTSTART;TZID=America/Chicago:20250424T120000
DTEND;TZID=America/Chicago:20250424T130000
LOCATION:https://unmc.zoom.us/webinar/register/WN_YpVN6-mfQhWui6ubX4cIGA
SUMMARY:Patient Debriefs After a Severe Event
END:VEVENT
END:VCALENDAR
