BEGIN:VCALENDAR
VERSION:2.0
PRODID:-//npqic.org//NONSGML kigkonsult.se iCalcreator 2.30.10//
CALSCALE:GREGORIAN
METHOD:PUBLISH
UID:d93cb686-59f4-47eb-91c0-632520e1605c
X-WR-CALDESC:
X-WR-RELCALID:3fa190441361be0f74e3dbabd4728862
X-WR-TIMEZONE:America/Chicago
BEGIN:VTIMEZONE
TZID:America/Chicago
BEGIN:STANDARD
TZNAME:CST
DTSTART:20231105T020000
TZOFFSETFROM:-0500
TZOFFSETTO:-0600
RDATE:20241103T020000
RDATE:20251102T020000
END:STANDARD
BEGIN:DAYLIGHT
TZNAME:CDT
DTSTART:20240310T020000
TZOFFSETFROM:-0600
TZOFFSETTO:-0500
RDATE:20250309T020000
END:DAYLIGHT
END:VTIMEZONE
BEGIN:VEVENT
UID:cfd28b7b-9dda-44aa-8622-b4061490fbb1
DTSTAMP:20260424T023248Z
DESCRIPTION:
DTSTART;TZID=America/Chicago:20240610T120000
DTEND;TZID=America/Chicago:20240610T130000
LOCATION:https://unmc.zoom.us/meeting/register/tJ0scu6prD4tHtF58GYZkmjUmtM9
 PmM7p_gD#/registration
SUMMARY:Substance Use Disorder Webinar Series: Exploring Best Practices for
  Internal Policies
END:VEVENT
END:VCALENDAR
