BEGIN:VCALENDAR
VERSION:2.0
PRODID:-//npqic.org//NONSGML kigkonsult.se iCalcreator 2.30.10//
CALSCALE:GREGORIAN
METHOD:PUBLISH
UID:84ce5432-7b69-4e3b-8959-a80095aff55d
X-WR-CALDESC:
X-WR-RELCALID:42b82fe265f041d24d0b5b7060cc4950
X-WR-TIMEZONE:America/Chicago
BEGIN:VTIMEZONE
TZID:America/Chicago
BEGIN:STANDARD
TZNAME:CST
DTSTART:20241103T020000
TZOFFSETFROM:-0500
TZOFFSETTO:-0600
RDATE:20251102T020000
RDATE:20261101T020000
END:STANDARD
BEGIN:DAYLIGHT
TZNAME:CDT
DTSTART:20250309T020000
TZOFFSETFROM:-0600
TZOFFSETTO:-0500
RDATE:20260308T020000
RDATE:20270314T020000
END:DAYLIGHT
END:VTIMEZONE
BEGIN:VEVENT
UID:3783666e-505f-4403-a246-c62f6fee96e4
DTSTAMP:20260425T175924Z
DESCRIPTION:
DTSTART;TZID=America/Chicago:20250917T121500
DTEND;TZID=America/Chicago:20250917T130000
LOCATION:
SUMMARY:NPQIC Monthly Breastfeeding Education
END:VEVENT
END:VCALENDAR
