BEGIN:VCALENDAR
VERSION:2.0
PRODID:-//npqic.org//NONSGML kigkonsult.se iCalcreator 2.30.10//
CALSCALE:GREGORIAN
METHOD:PUBLISH
UID:3bc10511-268c-40b2-9158-cf5feac55ccd
X-WR-CALDESC:
X-WR-RELCALID:0a2798f2e4905689d83c2c956dbbceea
X-WR-TIMEZONE:America/Chicago
BEGIN:VTIMEZONE
TZID:America/Chicago
BEGIN:STANDARD
TZNAME:CST
DTSTART:20241103T020000
TZOFFSETFROM:-0500
TZOFFSETTO:-0600
RDATE:20251102T020000
RDATE:20261101T020000
END:STANDARD
BEGIN:DAYLIGHT
TZNAME:CDT
DTSTART:20250309T020000
TZOFFSETFROM:-0600
TZOFFSETTO:-0500
RDATE:20260308T020000
RDATE:20270314T020000
END:DAYLIGHT
END:VTIMEZONE
BEGIN:VEVENT
UID:253f9cac-ecb1-4387-9d3c-962c8dd08d7b
DTSTAMP:20260425T175853Z
DESCRIPTION:
DTSTART;TZID=America/Chicago:20250917T070000
DTEND;TZID=America/Chicago:20250917T080000
LOCATION:
SUMMARY:NPQIC Maternal Advisory Group
END:VEVENT
END:VCALENDAR
