BEGIN:VCALENDAR
VERSION:2.0
PRODID:-//npqic.org//NONSGML kigkonsult.se iCalcreator 2.30.10//
CALSCALE:GREGORIAN
METHOD:PUBLISH
UID:7a73622a-f82a-42a3-b9bb-c47f2ab88c48
X-WR-CALDESC:
X-WR-RELCALID:f6ad88f42bdf0ffbc789cfd6a8e464c2
X-WR-TIMEZONE:America/Chicago
BEGIN:VTIMEZONE
TZID:America/Chicago
BEGIN:STANDARD
TZNAME:CST
DTSTART:20241103T020000
TZOFFSETFROM:-0500
TZOFFSETTO:-0600
RDATE:20251102T020000
RDATE:20261101T020000
END:STANDARD
BEGIN:DAYLIGHT
TZNAME:CDT
DTSTART:20250309T020000
TZOFFSETFROM:-0600
TZOFFSETTO:-0500
RDATE:20260308T020000
END:DAYLIGHT
END:VTIMEZONE
BEGIN:VEVENT
UID:c5b83808-3466-4db4-9bc2-36513efbf59f
DTSTAMP:20260425T164518Z
DESCRIPTION:
DTSTART;TZID=America/Chicago:20250828T120000
DTEND;TZID=America/Chicago:20250828T130000
LOCATION:
SUMMARY:AIM OB Hemorrhage Proactive Approaches Webinar
END:VEVENT
END:VCALENDAR
