BEGIN:VCALENDAR
VERSION:2.0
PRODID:-//npqic.org//NONSGML kigkonsult.se iCalcreator 2.30.10//
CALSCALE:GREGORIAN
METHOD:PUBLISH
UID:d03f00b5-d836-4f63-9ec8-af70bcc3f8a9
X-WR-CALDESC:
X-WR-RELCALID:c5803ac6eb8943796ef1d59d03ac5217
X-WR-TIMEZONE:America/Chicago
BEGIN:VTIMEZONE
TZID:America/Chicago
BEGIN:STANDARD
TZNAME:CST
DTSTART:20241103T020000
TZOFFSETFROM:-0500
TZOFFSETTO:-0600
RDATE:20251102T020000
RDATE:20261101T020000
END:STANDARD
BEGIN:DAYLIGHT
TZNAME:CDT
DTSTART:20250309T020000
TZOFFSETFROM:-0600
TZOFFSETTO:-0500
RDATE:20260308T020000
END:DAYLIGHT
END:VTIMEZONE
BEGIN:VEVENT
UID:b420f3c7-9159-4b53-8e0b-93262aff9505
DTSTAMP:20260425T154547Z
DESCRIPTION:
DTSTART;TZID=America/Chicago:20250724T120000
DTEND;TZID=America/Chicago:20250724T130000
LOCATION:
SUMMARY:AIM OB Hemorrhage Readiness
END:VEVENT
END:VCALENDAR
