BEGIN:VCALENDAR
VERSION:2.0
PRODID:-//npqic.org//NONSGML kigkonsult.se iCalcreator 2.30.10//
CALSCALE:GREGORIAN
METHOD:PUBLISH
UID:1feff33b-43a6-443b-a174-c21fd3c9906c
X-WR-CALDESC:
X-WR-RELCALID:e3a671641434107bf68a61dd06a51690
X-WR-TIMEZONE:America/Chicago
BEGIN:VTIMEZONE
TZID:America/Chicago
BEGIN:STANDARD
TZNAME:CST
DTSTART:20241103T020000
TZOFFSETFROM:-0500
TZOFFSETTO:-0600
RDATE:20251102T020000
RDATE:20261101T020000
END:STANDARD
BEGIN:DAYLIGHT
TZNAME:CDT
DTSTART:20250309T020000
TZOFFSETFROM:-0600
TZOFFSETTO:-0500
RDATE:20260308T020000
END:DAYLIGHT
END:VTIMEZONE
BEGIN:VEVENT
UID:9b4901f0-f7c3-4eac-ad4c-cd0361baeb7c
DTSTAMP:20260425T130732Z
DESCRIPTION:
DTSTART;TZID=America/Chicago:20250519T120000
DTEND;TZID=America/Chicago:20250519T130000
LOCATION:https://unmc.zoom.us/webinar/register/WN_KUyTzRS9RgKdYzYTMeyXtg
SUMMARY:Using Data to Drive Quality Improvement
END:VEVENT
END:VCALENDAR
