BEGIN:VCALENDAR
VERSION:2.0
PRODID:-//npqic.org//NONSGML kigkonsult.se iCalcreator 2.30.10//
CALSCALE:GREGORIAN
METHOD:PUBLISH
UID:da91cd71-f726-4c47-8597-c2aff7823442
X-WR-CALDESC:
X-WR-RELCALID:7b3f7867d171fd589cd718d7d4c467d8
X-WR-TIMEZONE:America/Chicago
BEGIN:VTIMEZONE
TZID:America/Chicago
BEGIN:STANDARD
TZNAME:CST
DTSTART:20241103T020000
TZOFFSETFROM:-0500
TZOFFSETTO:-0600
RDATE:20251102T020000
RDATE:20261101T020000
END:STANDARD
BEGIN:DAYLIGHT
TZNAME:CDT
DTSTART:20250309T020000
TZOFFSETFROM:-0600
TZOFFSETTO:-0500
RDATE:20260308T020000
END:DAYLIGHT
END:VTIMEZONE
BEGIN:VEVENT
UID:a2e22cb4-d4b0-4def-a897-945c6ee660c2
DTSTAMP:20260425T130954Z
DESCRIPTION:
DTSTART;TZID=America/Chicago:20250515T120000
DTEND;TZID=America/Chicago:20250515T124500
LOCATION:https://unmc.zoom.us/meeting/register/ROnndnmqRfu1bqEBHwUWtQ
SUMMARY:Postpartum Alert Initiative Kick-Off
END:VEVENT
END:VCALENDAR
