BEGIN:VCALENDAR
VERSION:2.0
PRODID:-//npqic.org//NONSGML kigkonsult.se iCalcreator 2.30.10//
CALSCALE:GREGORIAN
METHOD:PUBLISH
UID:c1797f42-9b6d-4ce9-87c5-c05e21991b2b
X-WR-CALDESC:
X-WR-RELCALID:cfd279d4c68b490347a49f4ee360662e
X-WR-TIMEZONE:America/Chicago
BEGIN:VTIMEZONE
TZID:America/Chicago
BEGIN:STANDARD
TZNAME:CST
DTSTART:20241103T020000
TZOFFSETFROM:-0500
TZOFFSETTO:-0600
RDATE:20251102T020000
END:STANDARD
BEGIN:DAYLIGHT
TZNAME:CDT
DTSTART:20250309T020000
TZOFFSETFROM:-0600
TZOFFSETTO:-0500
RDATE:20260308T020000
END:DAYLIGHT
END:VTIMEZONE
BEGIN:VEVENT
UID:f834a745-3514-49c7-be0c-fdcc15dc4c21
DTSTAMP:20260419T225425Z
DESCRIPTION:
DTSTART;TZID=America/Chicago:20250410T120000
DTEND;TZID=America/Chicago:20250410T130000
LOCATION:https://unmc.zoom.us/meeting/register/i_14tx_uTtC1aAfSx6H1PQ#/regi
 stration
SUMMARY:AIM OB Hemorrhage Informational Webinar
END:VEVENT
END:VCALENDAR
