BEGIN:VCALENDAR
VERSION:2.0
PRODID:-//npqic.org//NONSGML kigkonsult.se iCalcreator 2.30.10//
CALSCALE:GREGORIAN
METHOD:PUBLISH
UID:d1e5589b-47ae-4a51-931e-99361de7506e
X-WR-CALDESC:
X-WR-RELCALID:3123d0f5f70bd9a912c9ecbff44cbe3d
X-WR-TIMEZONE:America/Chicago
BEGIN:VTIMEZONE
TZID:America/Chicago
BEGIN:STANDARD
TZNAME:CST
DTSTART:20241103T020000
TZOFFSETFROM:-0500
TZOFFSETTO:-0600
RDATE:20251102T020000
END:STANDARD
BEGIN:DAYLIGHT
TZNAME:CDT
DTSTART:20250309T020000
TZOFFSETFROM:-0600
TZOFFSETTO:-0500
RDATE:20260308T020000
END:DAYLIGHT
END:VTIMEZONE
BEGIN:VEVENT
UID:1376b13b-7751-4c2e-99e3-b4f387854cf8
DTSTAMP:20260419T230148Z
DESCRIPTION:
DTSTART;TZID=America/Chicago:20250402T130000
DTEND;TZID=America/Chicago:20250402T140000
LOCATION:https://unmc.zoom.us/meeting/register/rRmRHU7cScSNLcRanoisqw#/regi
 stration
SUMMARY:AIM OB Hemorrhage Informational Webinar
END:VEVENT
END:VCALENDAR
