BEGIN:VCALENDAR
VERSION:2.0
PRODID:-//npqic.org//NONSGML kigkonsult.se iCalcreator 2.30.10//
CALSCALE:GREGORIAN
METHOD:PUBLISH
UID:e929e94e-42cc-40e0-b9d4-830ebef5213f
X-WR-CALDESC:
X-WR-RELCALID:442d19d7a925974582790440c2e8af5f
X-WR-TIMEZONE:America/Chicago
BEGIN:VTIMEZONE
TZID:America/Chicago
BEGIN:STANDARD
TZNAME:CST
DTSTART:20241103T020000
TZOFFSETFROM:-0500
TZOFFSETTO:-0600
RDATE:20251102T020000
END:STANDARD
BEGIN:DAYLIGHT
TZNAME:CDT
DTSTART:20240310T020000
TZOFFSETFROM:-0600
TZOFFSETTO:-0500
RDATE:20250309T020000
RDATE:20260308T020000
END:DAYLIGHT
END:VTIMEZONE
BEGIN:VEVENT
UID:ca63be79-869a-4081-955a-b877df321164
DTSTAMP:20260419T194851Z
DESCRIPTION:
DTSTART;TZID=America/Chicago:20250227T120000
DTEND;TZID=America/Chicago:20250227T130000
LOCATION:https://unmc.zoom.us/meeting/register/Nbi55dn9SOyhuIsEjJFa4A
SUMMARY:NPQIC SUD Policy Workshop/Office Hours
END:VEVENT
END:VCALENDAR
