BEGIN:VCALENDAR
VERSION:2.0
PRODID:-//npqic.org//NONSGML kigkonsult.se iCalcreator 2.30.10//
CALSCALE:GREGORIAN
METHOD:PUBLISH
UID:faea5417-fc8e-4265-a2f8-4f64542241d6
X-WR-CALDESC:
X-WR-RELCALID:95f9bec1dca0962073d63637e2fe4772
X-WR-TIMEZONE:America/Chicago
BEGIN:VTIMEZONE
TZID:America/Chicago
BEGIN:STANDARD
TZNAME:CST
DTSTART:20241103T020000
TZOFFSETFROM:-0500
TZOFFSETTO:-0600
RDATE:20251102T020000
END:STANDARD
BEGIN:DAYLIGHT
TZNAME:CDT
DTSTART:20240310T020000
TZOFFSETFROM:-0600
TZOFFSETTO:-0500
RDATE:20250309T020000
RDATE:20260308T020000
END:DAYLIGHT
END:VTIMEZONE
BEGIN:VEVENT
UID:fa8f4dc4-c4eb-4e99-9df2-72f01836aa61
DTSTAMP:20260419T194309Z
DESCRIPTION:
DTSTART;TZID=America/Chicago:20250218T173000
DTEND;TZID=America/Chicago:20250218T183000
LOCATION:
SUMMARY:NPQIC Board Meeting
END:VEVENT
END:VCALENDAR
