BEGIN:VCALENDAR
VERSION:2.0
PRODID:-//npqic.org//NONSGML kigkonsult.se iCalcreator 2.30.10//
CALSCALE:GREGORIAN
METHOD:PUBLISH
UID:8b0af449-d7a2-460a-81ce-5aedc2dc4112
X-WR-CALDESC:
X-WR-RELCALID:13138e5dff7e2813d0f98afd654dde35
X-WR-TIMEZONE:America/Chicago
BEGIN:VTIMEZONE
TZID:America/Chicago
BEGIN:STANDARD
TZNAME:CST
DTSTART:20241103T020000
TZOFFSETFROM:-0500
TZOFFSETTO:-0600
RDATE:20251102T020000
END:STANDARD
BEGIN:DAYLIGHT
TZNAME:CDT
DTSTART:20240310T020000
TZOFFSETFROM:-0600
TZOFFSETTO:-0500
RDATE:20250309T020000
RDATE:20260308T020000
END:DAYLIGHT
END:VTIMEZONE
BEGIN:VEVENT
UID:79ae75f1-02c2-407a-aa7f-9060c7655731
DTSTAMP:20260419T152911Z
DESCRIPTION:
DTSTART;TZID=America/Chicago:20241119T173000
DTEND;TZID=America/Chicago:20241119T183000
LOCATION:
SUMMARY:NPQIC Board Meeting
END:VEVENT
END:VCALENDAR
