BEGIN:VCALENDAR
VERSION:2.0
PRODID:-//npqic.org//NONSGML kigkonsult.se iCalcreator 2.30.10//
CALSCALE:GREGORIAN
METHOD:PUBLISH
UID:3e7d7cb9-85a3-4f4b-8ff2-e4a37f9d80e7
X-WR-CALDESC:
X-WR-RELCALID:bfeb757cde516e5af1eec8bf631b394f
X-WR-TIMEZONE:America/Chicago
BEGIN:VTIMEZONE
TZID:America/Chicago
BEGIN:STANDARD
TZNAME:CST
DTSTART:20231105T020000
TZOFFSETFROM:-0500
TZOFFSETTO:-0600
RDATE:20241103T020000
RDATE:20251102T020000
END:STANDARD
BEGIN:DAYLIGHT
TZNAME:CDT
DTSTART:20240310T020000
TZOFFSETFROM:-0600
TZOFFSETTO:-0500
RDATE:20250309T020000
RDATE:20260308T020000
END:DAYLIGHT
END:VTIMEZONE
BEGIN:VEVENT
UID:717269ff-50bb-49ca-a509-8d0ca1fe3d7b
DTSTAMP:20260419T142321Z
DESCRIPTION:
DTSTART;TZID=America/Chicago:20241028T120000
DTEND;TZID=America/Chicago:20241028T130000
LOCATION:https://unmc.zoom.us/meeting/register/tJ0kcOitrDgqGdYFyj7GhhSxMRkK
 iTsGxX9M
SUMMARY:Emergency Department Identification and Management of Perinatal Hyp
 ertensive Disorders
END:VEVENT
END:VCALENDAR
