BEGIN:VCALENDAR
VERSION:2.0
PRODID:-//npqic.org//NONSGML kigkonsult.se iCalcreator 2.30.10//
CALSCALE:GREGORIAN
METHOD:PUBLISH
UID:5b61e1d0-ef77-4932-9fd9-314ea649c37e
X-WR-CALDESC:302 S 36th St\, Omaha\, NE 68131
X-WR-RELCALID:0e602eeebc3133ae45bfe6932feb1b3f
X-WR-TIMEZONE:America/Chicago
BEGIN:VTIMEZONE
TZID:America/Chicago
BEGIN:STANDARD
TZNAME:CST
DTSTART:20231105T020000
TZOFFSETFROM:-0500
TZOFFSETTO:-0600
RDATE:20241103T020000
RDATE:20251102T020000
END:STANDARD
BEGIN:DAYLIGHT
TZNAME:CDT
DTSTART:20240310T020000
TZOFFSETFROM:-0600
TZOFFSETTO:-0500
RDATE:20250309T020000
RDATE:20260308T020000
END:DAYLIGHT
END:VTIMEZONE
BEGIN:VEVENT
UID:224c3b3d-1d0a-485f-8bb3-24989691084d
DTSTAMP:20260419T152620Z
DESCRIPTION:302 S 36th St\, Omaha\, NE 68131
DTSTART;TZID=America/Chicago:20240927T050000
DTEND;TZID=America/Chicago:20240927T050001
LOCATION:The Kimpton Cottonwood Hotel
SUMMARY:NPQIC Annual Summit
END:VEVENT
END:VCALENDAR
