BEGIN:VCALENDAR
VERSION:2.0
PRODID:-//npqic.org//NONSGML kigkonsult.se iCalcreator 2.30.10//
CALSCALE:GREGORIAN
METHOD:PUBLISH
UID:ff8e2e38-5d63-4804-805d-88b343837910
X-WR-CALDESC:
X-WR-RELCALID:2d920d21824c4a38414dc40d1a906635
X-WR-TIMEZONE:America/Chicago
BEGIN:VTIMEZONE
TZID:America/Chicago
BEGIN:STANDARD
TZNAME:CST
DTSTART:20231105T020000
TZOFFSETFROM:-0500
TZOFFSETTO:-0600
RDATE:20241103T020000
RDATE:20251102T020000
END:STANDARD
BEGIN:DAYLIGHT
TZNAME:CDT
DTSTART:20240310T020000
TZOFFSETFROM:-0600
TZOFFSETTO:-0500
RDATE:20250309T020000
END:DAYLIGHT
END:VTIMEZONE
BEGIN:VEVENT
UID:ac707a3c-f65b-4e0c-abe0-bad0f12777d5
DTSTAMP:20260419T165628Z
DESCRIPTION:
DTSTART;TZID=America/Chicago:20240820T173000
DTEND;TZID=America/Chicago:20240820T183000
LOCATION:
SUMMARY:NPQIC Board Meeting
END:VEVENT
END:VCALENDAR
