BEGIN:VCALENDAR
VERSION:2.0
PRODID:-//npqic.org//NONSGML kigkonsult.se iCalcreator 2.30.10//
CALSCALE:GREGORIAN
METHOD:PUBLISH
UID:ee954740-d2d6-495d-abec-7d3ba9dd0363
X-WR-CALDESC:
X-WR-RELCALID:80827ccb8a7891962648cd37b3163329
X-WR-TIMEZONE:America/Chicago
BEGIN:VTIMEZONE
TZID:America/Chicago
BEGIN:STANDARD
TZNAME:CST
DTSTART:20231105T020000
TZOFFSETFROM:-0500
TZOFFSETTO:-0600
RDATE:20241103T020000
RDATE:20251102T020000
END:STANDARD
BEGIN:DAYLIGHT
TZNAME:CDT
DTSTART:20240310T020000
TZOFFSETFROM:-0600
TZOFFSETTO:-0500
RDATE:20250309T020000
END:DAYLIGHT
END:VTIMEZONE
BEGIN:VEVENT
UID:ecdd2f9c-63fe-4ac6-9a3b-1d1b5a9d741f
DTSTAMP:20260419T164740Z
DESCRIPTION:
DTSTART;TZID=America/Chicago:20240815T120000
DTEND;TZID=America/Chicago:20240815T130000
LOCATION:https://unmc.zoom.us/meeting/register/tJMsdu6qpzgjH9YylnEcU9_BPUKa
 X1INPJVo#/registration
SUMMARY:Implementation of Postpartum Hypertension Monitoring
END:VEVENT
END:VCALENDAR
