BEGIN:VCALENDAR
VERSION:2.0
PRODID:-//npqic.org//NONSGML kigkonsult.se iCalcreator 2.30.10//
CALSCALE:GREGORIAN
METHOD:PUBLISH
UID:4695d6c5-eb50-4a55-9ee6-180b4ddb6451
X-WR-CALDESC:
X-WR-RELCALID:8090f112e7ec3d83e1d5ae7655358cb6
X-WR-TIMEZONE:America/Chicago
BEGIN:VTIMEZONE
TZID:America/Chicago
BEGIN:STANDARD
TZNAME:CST
DTSTART:20231105T020000
TZOFFSETFROM:-0500
TZOFFSETTO:-0600
RDATE:20241103T020000
RDATE:20251102T020000
END:STANDARD
BEGIN:DAYLIGHT
TZNAME:CDT
DTSTART:20240310T020000
TZOFFSETFROM:-0600
TZOFFSETTO:-0500
RDATE:20250309T020000
END:DAYLIGHT
END:VTIMEZONE
BEGIN:VEVENT
UID:ff4e5dca-e8a5-48ff-adaa-1051f0b87da1
DTSTAMP:20260419T170215Z
DESCRIPTION:
DTSTART;TZID=America/Chicago:20240812T120000
DTEND;TZID=America/Chicago:20240812T130000
LOCATION:https://unmc.zoom.us/meeting/register/tJ0scu6prD4tHtF58GYZkmjUmtM9
 PmM7p_gD#/registration
SUMMARY:Substance Use Disorder Webinar Series: Stigma and Bias
END:VEVENT
END:VCALENDAR
