BEGIN:VCALENDAR
VERSION:2.0
PRODID:-//npqic.org//NONSGML kigkonsult.se iCalcreator 2.30.10//
CALSCALE:GREGORIAN
METHOD:PUBLISH
UID:bd8c8a7c-6ccd-4fe2-98d5-ca8a2abc5725
X-WR-CALDESC:
X-WR-RELCALID:6b8571c86662f672d7e9bd761fcd7234
X-WR-TIMEZONE:America/Chicago
BEGIN:VTIMEZONE
TZID:America/Chicago
BEGIN:STANDARD
TZNAME:CST
DTSTART:20221106T020000
TZOFFSETFROM:-0500
TZOFFSETTO:-0600
RDATE:20231105T020000
RDATE:20241103T020000
END:STANDARD
BEGIN:DAYLIGHT
TZNAME:CDT
DTSTART:20230312T020000
TZOFFSETFROM:-0600
TZOFFSETTO:-0500
RDATE:20240310T020000
END:DAYLIGHT
END:VTIMEZONE
BEGIN:VEVENT
UID:c8c7089c-22a7-4685-baee-ecf744f40c32
DTSTAMP:20260421T164807Z
DESCRIPTION:
DTSTART;TZID=America/Chicago:20230615T123000
DTEND;TZID=America/Chicago:20230615T133000
LOCATION:
SUMMARY:NPQIC Breastfeeding Initiative
END:VEVENT
END:VCALENDAR
