BEGIN:VCALENDAR
VERSION:2.0
PRODID:-//npqic.org//NONSGML kigkonsult.se iCalcreator 2.30.10//
CALSCALE:GREGORIAN
METHOD:PUBLISH
UID:b38ad5bd-5e88-4af8-8e77-9247734f436d
X-WR-CALDESC:
X-WR-RELCALID:faebdf47d76f79042dfb3ae64931c601
X-WR-TIMEZONE:America/Chicago
BEGIN:VTIMEZONE
TZID:America/Chicago
BEGIN:STANDARD
TZNAME:CST
DTSTART:20221106T020000
TZOFFSETFROM:-0500
TZOFFSETTO:-0600
RDATE:20231105T020000
RDATE:20241103T020000
END:STANDARD
BEGIN:DAYLIGHT
TZNAME:CDT
DTSTART:20230312T020000
TZOFFSETFROM:-0600
TZOFFSETTO:-0500
RDATE:20240310T020000
END:DAYLIGHT
END:VTIMEZONE
BEGIN:VEVENT
UID:3c6c624d-88b4-4327-9278-ea5858156562
DTSTAMP:20260421T151426Z
DESCRIPTION:
DTSTART;TZID=America/Chicago:20230516T173000
DTEND;TZID=America/Chicago:20230516T183000
LOCATION:
SUMMARY:NPQIC Board Meeting
END:VEVENT
END:VCALENDAR
