BEGIN:VCALENDAR
VERSION:2.0
PRODID:-//npqic.org//NONSGML kigkonsult.se iCalcreator 2.30.10//
CALSCALE:GREGORIAN
METHOD:PUBLISH
UID:6baf6e20-3393-4f69-8a1d-0ff7296777ac
X-WR-CALDESC:
X-WR-RELCALID:6da1c7b5bd1e6ddac92dfaf21c945625
X-WR-TIMEZONE:America/Chicago
BEGIN:VTIMEZONE
TZID:America/Chicago
BEGIN:STANDARD
TZNAME:CST
DTSTART:20221106T020000
TZOFFSETFROM:-0500
TZOFFSETTO:-0600
RDATE:20231105T020000
RDATE:20241103T020000
END:STANDARD
BEGIN:DAYLIGHT
TZNAME:CDT
DTSTART:20230312T020000
TZOFFSETFROM:-0600
TZOFFSETTO:-0500
RDATE:20240310T020000
END:DAYLIGHT
END:VTIMEZONE
BEGIN:VEVENT
UID:c337e2d3-2f10-4031-aadd-ab7cac27c4d8
DTSTAMP:20260421T151426Z
DESCRIPTION:
DTSTART;TZID=America/Chicago:20230511T121500
DTEND;TZID=America/Chicago:20230511T130000
LOCATION:
SUMMARY:AIM HTN Initiative
END:VEVENT
END:VCALENDAR
