BEGIN:VCALENDAR
VERSION:2.0
PRODID:-//npqic.org//NONSGML kigkonsult.se iCalcreator 2.30.10//
CALSCALE:GREGORIAN
METHOD:PUBLISH
UID:91874c79-50ad-411b-99e1-5a16aaafeb9f
X-WR-CALDESC:
X-WR-RELCALID:56c8ecb80bddcfd037e9c00ba7ab06e7
X-WR-TIMEZONE:America/Chicago
BEGIN:VTIMEZONE
TZID:America/Chicago
BEGIN:STANDARD
TZNAME:CST
DTSTART:20221106T020000
TZOFFSETFROM:-0500
TZOFFSETTO:-0600
RDATE:20231105T020000
END:STANDARD
BEGIN:DAYLIGHT
TZNAME:CDT
DTSTART:20230312T020000
TZOFFSETFROM:-0600
TZOFFSETTO:-0500
RDATE:20240310T020000
END:DAYLIGHT
END:VTIMEZONE
BEGIN:VEVENT
UID:ebcd6e29-d4c0-43b8-9ed9-ae17a0f88f83
DTSTAMP:20260421T135513Z
DESCRIPTION:
DTSTART;TZID=America/Chicago:20230412T123000
DTEND;TZID=America/Chicago:20230412T133000
LOCATION:
SUMMARY:NPQIC Breastfeeding Initiative
END:VEVENT
END:VCALENDAR
