BEGIN:VCALENDAR
VERSION:2.0
PRODID:-//npqic.org//NONSGML kigkonsult.se iCalcreator 2.30.10//
CALSCALE:GREGORIAN
METHOD:PUBLISH
UID:366ad0b0-8ce3-4f08-aacb-d08c22ab0861
X-WR-CALDESC:
X-WR-RELCALID:ccd6fd50bdd6c27ba309671dc1e00e05
X-WR-TIMEZONE:America/Chicago
BEGIN:VTIMEZONE
TZID:America/Chicago
BEGIN:STANDARD
TZNAME:CST
DTSTART:20221106T020000
TZOFFSETFROM:-0500
TZOFFSETTO:-0600
RDATE:20231105T020000
END:STANDARD
BEGIN:DAYLIGHT
TZNAME:CDT
DTSTART:20230312T020000
TZOFFSETFROM:-0600
TZOFFSETTO:-0500
RDATE:20240310T020000
END:DAYLIGHT
END:VTIMEZONE
BEGIN:VEVENT
UID:a8eadc1e-d936-433f-b29f-e1c97e439a07
DTSTAMP:20260421T122422Z
DESCRIPTION:
DTSTART;TZID=America/Chicago:20230322T120000
DTEND;TZID=America/Chicago:20230322T130000
LOCATION:
SUMMARY:Webinar: Opioid Prescriptions in Pregnancy
END:VEVENT
END:VCALENDAR
