BEGIN:VCALENDAR
VERSION:2.0
PRODID:-//npqic.org//NONSGML kigkonsult.se iCalcreator 2.30.10//
CALSCALE:GREGORIAN
METHOD:PUBLISH
UID:cfd3dcc7-79f5-4230-8eef-d89fb2036cb7
X-WR-CALDESC:
X-WR-RELCALID:42978527e5ff27adfbab83cda906f06a
X-WR-TIMEZONE:America/Chicago
BEGIN:VTIMEZONE
TZID:America/Chicago
BEGIN:STANDARD
TZNAME:CST
DTSTART:20221106T020000
TZOFFSETFROM:-0500
TZOFFSETTO:-0600
RDATE:20231105T020000
END:STANDARD
BEGIN:DAYLIGHT
TZNAME:CDT
DTSTART:20220313T020000
TZOFFSETFROM:-0600
TZOFFSETTO:-0500
RDATE:20230312T020000
RDATE:20240310T020000
END:DAYLIGHT
END:VTIMEZONE
BEGIN:VEVENT
UID:ea9ad470-06ee-40d8-ad56-fd0521d714b0
DTSTAMP:20260421T105725Z
DESCRIPTION:
DTSTART;TZID=America/Chicago:20230221T121500
DTEND;TZID=America/Chicago:20230221T130000
LOCATION:
SUMMARY:Webinar: Revised AAP Clinical Practice Guidelines for Management of
  Hyperbilirubinemia
END:VEVENT
END:VCALENDAR
