BEGIN:VCALENDAR
VERSION:2.0
PRODID:-//npqic.org//NONSGML kigkonsult.se iCalcreator 2.30.10//
CALSCALE:GREGORIAN
METHOD:PUBLISH
UID:82724c53-b5c6-4a71-baa2-28fe079f1a65
X-WR-CALDESC:
X-WR-RELCALID:b97af00eb0493d6d8608d1cc69524ffb
X-WR-TIMEZONE:America/Chicago
BEGIN:VTIMEZONE
TZID:America/Chicago
BEGIN:STANDARD
TZNAME:CST
DTSTART:20221106T020000
TZOFFSETFROM:-0500
TZOFFSETTO:-0600
RDATE:20231105T020000
END:STANDARD
BEGIN:DAYLIGHT
TZNAME:CDT
DTSTART:20220313T020000
TZOFFSETFROM:-0600
TZOFFSETTO:-0500
RDATE:20230312T020000
RDATE:20240310T020000
END:DAYLIGHT
END:VTIMEZONE
BEGIN:VEVENT
UID:4fbce5f9-0f64-4e88-9741-bff1413e7f3c
DTSTAMP:20260421T104809Z
DESCRIPTION:
DTSTART;TZID=America/Chicago:20230208T123000
DTEND;TZID=America/Chicago:20230208T133000
LOCATION:
SUMMARY:NPQIC Breastfeeding Initiative
END:VEVENT
END:VCALENDAR
