BEGIN:VCALENDAR
VERSION:2.0
PRODID:-//npqic.org//NONSGML kigkonsult.se iCalcreator 2.30.10//
CALSCALE:GREGORIAN
METHOD:PUBLISH
UID:b7f7c968-dffc-44dd-a63f-d793c6bb8f8d
X-WR-CALDESC:
X-WR-RELCALID:95b40c56d86696319d75f5ef2562fd95
X-WR-TIMEZONE:America/Chicago
BEGIN:VTIMEZONE
TZID:America/Chicago
BEGIN:STANDARD
TZNAME:CST
DTSTART:20221106T020000
TZOFFSETFROM:-0500
TZOFFSETTO:-0600
RDATE:20231105T020000
END:STANDARD
BEGIN:DAYLIGHT
TZNAME:CDT
DTSTART:20220313T020000
TZOFFSETFROM:-0600
TZOFFSETTO:-0500
RDATE:20230312T020000
RDATE:20240310T020000
END:DAYLIGHT
END:VTIMEZONE
BEGIN:VEVENT
UID:7c0a03a2-60ff-4202-9122-01f1840d78db
DTSTAMP:20260421T042059Z
DESCRIPTION:
DTSTART;TZID=America/Chicago:20221214T123000
DTEND;TZID=America/Chicago:20221214T133000
LOCATION:
SUMMARY:NPQIC Breastfeeding Initiative
END:VEVENT
END:VCALENDAR
