BEGIN:VCALENDAR
VERSION:2.0
PRODID:-//npqic.org//NONSGML kigkonsult.se iCalcreator 2.30.10//
CALSCALE:GREGORIAN
METHOD:PUBLISH
UID:0eb44982-6bb9-4801-8fb8-3ae88e198269
X-WR-CALDESC:2022 Annual Summit will be held on Wednesday\, November 9th fr
 om 8:00am to 4:30 pm. Registration information coming soon.
X-WR-RELCALID:875a6a63c32abbed7c0ab6b113014da9
X-WR-TIMEZONE:America/Chicago
BEGIN:VTIMEZONE
TZID:America/Chicago
BEGIN:STANDARD
TZNAME:CST
DTSTART:20221106T020000
TZOFFSETFROM:-0500
TZOFFSETTO:-0600
RDATE:20231105T020000
END:STANDARD
BEGIN:DAYLIGHT
TZNAME:CDT
DTSTART:20220313T020000
TZOFFSETFROM:-0600
TZOFFSETTO:-0500
RDATE:20230312T020000
RDATE:20240310T020000
END:DAYLIGHT
END:VTIMEZONE
BEGIN:VEVENT
UID:82cbde2c-93d1-4234-be40-56ada9c923ee
DTSTAMP:20260421T093019Z
DESCRIPTION:2022 Annual Summit will be held on Wednesday\, November 9th fro
 m 8:00am to 4:30 pm. Registration information coming soon.
DTSTART;TZID=America/Chicago:20221109T080000
DTEND;TZID=America/Chicago:20221109T163000
LOCATION:
SUMMARY:Annual Summit
END:VEVENT
END:VCALENDAR
